BEGIN:VCALENDAR
VERSION:2.0
PRODID:-//ACG//Events//EN
CALSCALE:GREGORIAN
METHOD:PUBLISH
BEGIN:VTIMEZONE
TZID:US/Mountain
BEGIN:STANDARD
DTSTART:19701025T080000
TZOFFSETTO:-0700
TZOFFSETFROM:-0600
RRULE:FREQ=YEARLY;BYMONTH=11;BYDAY=1SU
END:STANDARD
BEGIN:DAYLIGHT
DTSTART:19700426T090000
TZOFFSETTO:-0600
TZOFFSETFROM:-0700
RRULE:FREQ=YEARLY;BYMONTH=3;BYDAY=2SU
END:DAYLIGHT
END:VTIMEZONE
BEGIN:VEVENT
UID:WPN-AUGUST-2025-HAPPY-HOUR
DTSTART;TZID=US/Mountain:20250828T160052
DTEND;TZID=US/Mountain:20250828T180024
STATUS:CONFIRMED
SUMMARY:WPN August 2025 Happy Hour
DESCRIPTION:
LOCATION:Parsons Behle & Latimer\n201 South Main Street\nSalt Lake Cit
 y\\, UT 84111
URL:https://www.acg.org/utah/events/wpn-august-2025-happy-hour
DTSTAMP:20260421T091450Z
END:VEVENT
END:VCALENDAR
