BEGIN:VCALENDAR
VERSION:2.0
PRODID:-//ACG//Events//EN
CALSCALE:GREGORIAN
METHOD:PUBLISH
BEGIN:VTIMEZONE
TZID:America/New_York
BEGIN:STANDARD
DTSTART:19701025T060000
TZOFFSETTO:-0500
TZOFFSETFROM:-0400
RRULE:FREQ=YEARLY;BYMONTH=11;BYDAY=1SU
END:STANDARD
BEGIN:DAYLIGHT
DTSTART:19700426T070000
TZOFFSETTO:-0400
TZOFFSETFROM:-0500
RRULE:FREQ=YEARLY;BYMONTH=3;BYDAY=2SU
END:DAYLIGHT
END:VTIMEZONE
BEGIN:VEVENT
UID:MEMBERS-MARTINIS-ACG-S-SUMMER-SPEAKEASY-SOCIAL
DTSTART;TZID=America/New_York:20250624T173030
DTEND;TZID=America/New_York:20250624T193030
STATUS:CONFIRMED
SUMMARY:Members & Martinis: ACG Orlando’s Summer Speakeasy Social
DESCRIPTION:
LOCATION:Crown Alley\n7055 County Road 46A\nLake Mary\\, FL 32746
URL:https://www.acg.org/orlando/events/members-martinis-acg-orlandos-s
 ummer-speakeasy-social
DTSTAMP:20260421T163644Z
END:VEVENT
END:VCALENDAR
