BEGIN:VCALENDAR
VERSION:2.0
PRODID:-//ACG//Events//EN
CALSCALE:GREGORIAN
METHOD:PUBLISH
BEGIN:VTIMEZONE
TZID:America/Detroit
BEGIN:STANDARD
DTSTART:19700101T060000
TZOFFSETTO:-0500
TZOFFSETFROM:-0500
END:STANDARD
END:VTIMEZONE
BEGIN:VEVENT
UID:145429
DTSTART;TZID=America/Detroit:20250605T170000
DTEND;TZID=America/Detroit:20250605T190000
STATUS:CONFIRMED
SUMMARY:Summer Networking Mixer
DESCRIPTION:
LOCATION:Warner Building\nWarner Norcross + Judd\n150 Ottawa Avenue\, 
 NW\nSuite 1500\nGrand Rapids \\, MI 49503
URL:https://www.acg.org/wmich/events/summer-networking-mixer
DTSTAMP:20260421T201828Z
END:VEVENT
END:VCALENDAR
