BEGIN:VCALENDAR
VERSION:2.0
PRODID:-//ACG//Events//EN
CALSCALE:GREGORIAN
METHOD:PUBLISH
BEGIN:VTIMEZONE
TZID:America/Los_Angeles
BEGIN:STANDARD
DTSTART:19701025T090000
TZOFFSETTO:-0800
TZOFFSETFROM:-0700
RRULE:FREQ=YEARLY;BYMONTH=11;BYDAY=1SU
END:STANDARD
BEGIN:DAYLIGHT
DTSTART:19700426T100000
TZOFFSETTO:-0700
TZOFFSETFROM:-0800
RRULE:FREQ=YEARLY;BYMONTH=3;BYDAY=2SU
END:DAYLIGHT
END:VTIMEZONE
BEGIN:VEVENT
UID:ACGIE-TAXES-TARIFFS-LUNCH-AND-LEARN-AT-CHEECH-MARIN-MUSEUM-08-13-2025
DTSTART;TZID=America/Los_Angeles:20250813T113009
DTEND;TZID=America/Los_Angeles:20250813T133009
STATUS:CONFIRMED
SUMMARY:ACGIE | Taxes & Tariffs Lunch and Learn at Cheech Marin Museum
  | 08.13.2025
DESCRIPTION:
LOCATION:The Cheech Marin Center Chicano Art\n3581 Mission Inn Avenue\
 nRiverside\\, CA 92501
URL:https://www.acg.org/inlandempire/events/acgie-taxes-tariffs-lunch-
 and-learn-cheech-marin-museum-08132025
DTSTAMP:20260423T083956Z
END:VEVENT
END:VCALENDAR
