BEGIN:VCALENDAR
VERSION:2.0
PRODID:-//ACG//Events//EN
CALSCALE:GREGORIAN
METHOD:PUBLISH
BEGIN:VTIMEZONE
TZID:America/Indiana/Indianapolis
BEGIN:STANDARD
DTSTART:19701025T060000
TZOFFSETTO:-0500
TZOFFSETFROM:-0400
RRULE:FREQ=YEARLY;BYMONTH=11;BYDAY=1SU
END:STANDARD
BEGIN:DAYLIGHT
DTSTART:19700426T070000
TZOFFSETTO:-0400
TZOFFSETFROM:-0500
RRULE:FREQ=YEARLY;BYMONTH=3;BYDAY=2SU
END:DAYLIGHT
END:VTIMEZONE
BEGIN:VEVENT
UID:145470
DTSTART;TZID=America/Indiana/Indianapolis:20250813T153000
DTEND;TZID=America/Indiana/Indianapolis:20250813T180000
STATUS:CONFIRMED
SUMMARY:WiT & EWF Pickleball Clinic
DESCRIPTION:
LOCATION:Pickle on Penn Carmel\n
URL:https://www.acg.org/indiana/events/wit-ewf-pickleball-clinic
DTSTAMP:20260423T084215Z
END:VEVENT
END:VCALENDAR
