BEGIN:VCALENDAR
VERSION:2.0
PRODID:-//ACG//Events//EN
CALSCALE:GREGORIAN
METHOD:PUBLISH
BEGIN:VTIMEZONE
TZID:America/New_York
BEGIN:STANDARD
DTSTART:19701025T060000
TZOFFSETTO:-0500
TZOFFSETFROM:-0400
RRULE:FREQ=YEARLY;BYMONTH=11;BYDAY=1SU
END:STANDARD
BEGIN:DAYLIGHT
DTSTART:19700426T070000
TZOFFSETTO:-0400
TZOFFSETFROM:-0500
RRULE:FREQ=YEARLY;BYMONTH=3;BYDAY=2SU
END:DAYLIGHT
END:VTIMEZONE
BEGIN:VEVENT
UID:ACG-PHILADELPHIA-COURTSIDE-CONNECTIONS-SEPTEMBER-2025
DTSTART;TZID=America/New_York:20250917T150058
DTEND;TZID=America/New_York:20250917T181558
STATUS:CONFIRMED
SUMMARY:ACG Philadelphia | Courtside Connections\, September 2025
DESCRIPTION:
LOCATION:Philadelphia Country Club\n1601 Spring Mill Road
URL:https://www.acg.org/philadelphia/events/acg-philadelphia-courtside
 -connections-september-2025
DTSTAMP:20260421T050014Z
END:VEVENT
END:VCALENDAR
