BEGIN:VCALENDAR
VERSION:2.0
PRODID:-//ACG//Events//EN
CALSCALE:GREGORIAN
METHOD:PUBLISH
BEGIN:VTIMEZONE
TZID:America/New_York
BEGIN:STANDARD
DTSTART:19701025T060000
TZOFFSETTO:-0500
TZOFFSETFROM:-0400
RRULE:FREQ=YEARLY;BYMONTH=11;BYDAY=1SU
END:STANDARD
BEGIN:DAYLIGHT
DTSTART:19700426T070000
TZOFFSETTO:-0400
TZOFFSETFROM:-0500
RRULE:FREQ=YEARLY;BYMONTH=3;BYDAY=2SU
END:DAYLIGHT
END:VTIMEZONE
BEGIN:VEVENT
UID:TALENT-TRANSITIONS-AND-TRANSFORMATION-NAVIGATING-CONSOLIDATION-IN-
 THE-WAR-FOR-TALENT
DTSTART;TZID=America/New_York:20250806T073016
DTEND;TZID=America/New_York:20250806T090026
STATUS:CONFIRMED
SUMMARY:Talent\, Transitions\, and Transformation: Navigating Consolid
 ation in the War for Talent
DESCRIPTION:
LOCATION:The Buckhead Club\n3344 Peachtree Road Northeast\nAtlanta\\, 
 GA 30326
URL:https://www.acg.org/atlanta/events/talent-transitions-and-transfor
 mation-navigating-consolidation-war-talent
DTSTAMP:20260423T091902Z
END:VEVENT
END:VCALENDAR
