BEGIN:VCALENDAR
VERSION:2.0
PRODID:-//ACG//Events//EN
CALSCALE:GREGORIAN
METHOD:PUBLISH
BEGIN:VTIMEZONE
TZID:America/New_York
BEGIN:STANDARD
DTSTART:19701025T060000
TZOFFSETTO:-0500
TZOFFSETFROM:-0400
RRULE:FREQ=YEARLY;BYMONTH=11;BYDAY=1SU
END:STANDARD
BEGIN:DAYLIGHT
DTSTART:19700426T070000
TZOFFSETTO:-0400
TZOFFSETFROM:-0500
RRULE:FREQ=YEARLY;BYMONTH=3;BYDAY=2SU
END:DAYLIGHT
END:VTIMEZONE
BEGIN:VEVENT
UID:ACG-MIAMI-PRESENTS-DEALMAKERS-SOCIAL-AT-THE-RUSTY-PELICAN
DTSTART;TZID=America/New_York:20251016T173057
DTEND;TZID=America/New_York:20251016T200014
STATUS:CONFIRMED
SUMMARY:ACG Miami Presents: Dealmakers Social  at the Rusty Pelican
DESCRIPTION:
LOCATION:Rusty Pelican Miami\n3201 Rickenbacker Causeway\nKey Biscayne
 \\, FL 33149
URL:https://www.acg.org/southflorida/events/acg-miami-presents-dealmak
 ers-social-rusty-pelican
DTSTAMP:20260421T005651Z
END:VEVENT
END:VCALENDAR
