BEGIN:VCALENDAR
VERSION:2.0
PRODID:-//ACG//Events//EN
CALSCALE:GREGORIAN
METHOD:PUBLISH
BEGIN:VTIMEZONE
TZID:America/New_York
BEGIN:STANDARD
DTSTART:19701025T060000
TZOFFSETTO:-0500
TZOFFSETFROM:-0400
RRULE:FREQ=YEARLY;BYMONTH=11;BYDAY=1SU
END:STANDARD
BEGIN:DAYLIGHT
DTSTART:19700426T070000
TZOFFSETTO:-0400
TZOFFSETFROM:-0500
RRULE:FREQ=YEARLY;BYMONTH=3;BYDAY=2SU
END:DAYLIGHT
END:VTIMEZONE
BEGIN:VEVENT
UID:ACG-MIAMI-PRESENTS-EMBRACING-VALUE-IN-MODERN-HEALTHCARE
DTSTART;TZID=America/New_York:20250918T153028
DTEND;TZID=America/New_York:20250918T190041
STATUS:CONFIRMED
SUMMARY:ACG Miami Presents: Embracing Value  in Modern Healthcare
DESCRIPTION:
LOCATION:Southeast Financial Center - 5th Floor\n200 South Biscayne Bo
 ulevard\nMiami\\, FL 33131
URL:https://www.acg.org/southflorida/events/acg-miami-presents-embraci
 ng-value-modern-healthcare
DTSTAMP:20260421T050123Z
END:VEVENT
END:VCALENDAR
