BEGIN:VCALENDAR
VERSION:2.0
PRODID:-//ACG//Events//EN
CALSCALE:GREGORIAN
METHOD:PUBLISH
BEGIN:VTIMEZONE
TZID:America/Los_Angeles
BEGIN:STANDARD
DTSTART:19701025T090000
TZOFFSETTO:-0800
TZOFFSETFROM:-0700
RRULE:FREQ=YEARLY;BYMONTH=11;BYDAY=1SU
END:STANDARD
BEGIN:DAYLIGHT
DTSTART:19700426T100000
TZOFFSETTO:-0700
TZOFFSETFROM:-0800
RRULE:FREQ=YEARLY;BYMONTH=3;BYDAY=2SU
END:DAYLIGHT
END:VTIMEZONE
BEGIN:VEVENT
UID:2025-ACG-SEA-I-TAKE-ME-OUT-TO-THE-BALLGAME-GO-MARINERS
DTSTART;TZID=America/Los_Angeles:20250908T184019
DTEND;TZID=America/Los_Angeles:20250908T214035
STATUS:CONFIRMED
SUMMARY:2025 ACG SEA I Take Me Out To The Ballgame - Go Mariners!
DESCRIPTION:
LOCATION:T-Mobile Park - Edgar's Home Run Porch\n1250 1st Avenue South
 \nSeattle\\, WA 98134
URL:https://www.acg.org/seattle/events/2025-acg-sea-i-take-me-out-ball
 game-go-mariners
DTSTAMP:20260421T085240Z
END:VEVENT
END:VCALENDAR
