BEGIN:VCALENDAR
VERSION:2.0
PRODID:-//ACG//Events//EN
CALSCALE:GREGORIAN
METHOD:PUBLISH
BEGIN:VTIMEZONE
TZID:America/Chicago
BEGIN:STANDARD
DTSTART:19701025T070000
TZOFFSETTO:-0600
TZOFFSETFROM:-0500
RRULE:FREQ=YEARLY;BYMONTH=11;BYDAY=1SU
END:STANDARD
BEGIN:DAYLIGHT
DTSTART:19700426T080000
TZOFFSETTO:-0500
TZOFFSETFROM:-0600
RRULE:FREQ=YEARLY;BYMONTH=3;BYDAY=2SU
END:DAYLIGHT
END:VTIMEZONE
BEGIN:VEVENT
UID:2025-ACG-KC-WOMEN-S-NETWORKING-LUNCH
DTSTART;TZID=America/Chicago:20250826T113011
DTEND;TZID=America/Chicago:20250826T130024
STATUS:CONFIRMED
SUMMARY:2025 ACG KC Women's Networking Lunch
DESCRIPTION:
LOCATION:The Moderne Loft\n405 Southwest Boulevard\nKansas City\\, MO 64108
URL:https://www.acg.org/kc/events/2025-acg-kc-womens-networking-lunch
DTSTAMP:20260421T095125Z
END:VEVENT
END:VCALENDAR
