BEGIN:VCALENDAR
VERSION:2.0
PRODID:-//ACG//Events//EN
CALSCALE:GREGORIAN
METHOD:PUBLISH
BEGIN:VTIMEZONE
TZID:America/Chicago
BEGIN:STANDARD
DTSTART:19701025T070000
TZOFFSETTO:-0600
TZOFFSETFROM:-0500
RRULE:FREQ=YEARLY;BYMONTH=11;BYDAY=1SU
END:STANDARD
BEGIN:DAYLIGHT
DTSTART:19700426T080000
TZOFFSETTO:-0500
TZOFFSETFROM:-0600
RRULE:FREQ=YEARLY;BYMONTH=3;BYDAY=2SU
END:DAYLIGHT
END:VTIMEZONE
BEGIN:VEVENT
UID:2025-ACG-WI-WOMEN-S-NETWORK-SUMMER-SOCIAL
DTSTART;TZID=America/Chicago:20250819T160014
DTEND;TZID=America/Chicago:20250819T180032
STATUS:CONFIRMED
SUMMARY:2025 ACG WI | Women's Network Summer Social
DESCRIPTION:
LOCATION:Elm Grove\n
URL:https://www.acg.org/wisconsin/events/2025-acg-wi-womens-network-su
 mmer-social
DTSTAMP:20260421T104349Z
END:VEVENT
END:VCALENDAR
