BEGIN:VCALENDAR
VERSION:2.0
PRODID:-//ACG//Events//EN
CALSCALE:GREGORIAN
METHOD:PUBLISH
BEGIN:VTIMEZONE
TZID:America/Toronto
BEGIN:STANDARD
DTSTART:19701025T060000
TZOFFSETTO:-0500
TZOFFSETFROM:-0400
RRULE:FREQ=YEARLY;BYMONTH=11;BYDAY=1SU
END:STANDARD
BEGIN:DAYLIGHT
DTSTART:19700426T070000
TZOFFSETTO:-0400
TZOFFSETFROM:-0500
RRULE:FREQ=YEARLY;BYMONTH=3;BYDAY=2SU
END:DAYLIGHT
END:VTIMEZONE
BEGIN:VEVENT
UID:145589
DTSTART;TZID=America/Toronto:20250617T073000
DTEND;TZID=America/Toronto:20250617T100000
STATUS:CONFIRMED
SUMMARY:Family Office Investments – Risk Strategies and Opportunitie
 s in the Current Environment
DESCRIPTION:
LOCATION:Aird & Berlis LLP\nAird & Berlis LLP\, \nBrookfield Place\, 1
 81 Bay St. Toronto\, ON M5J 2T9
URL:https://www.acg.org/toronto/events/family-office-investments-risk-
 strategies-and-opportunities-current-environment
DTSTAMP:20260421T201832Z
END:VEVENT
END:VCALENDAR
