BEGIN:VCALENDAR
VERSION:2.0
PRODID:-//ACG//Events//EN
CALSCALE:GREGORIAN
METHOD:PUBLISH
BEGIN:VTIMEZONE
TZID:America/New_York
BEGIN:STANDARD
DTSTART:19701025T060000
TZOFFSETTO:-0500
TZOFFSETFROM:-0400
RRULE:FREQ=YEARLY;BYMONTH=11;BYDAY=1SU
END:STANDARD
BEGIN:DAYLIGHT
DTSTART:19700426T070000
TZOFFSETTO:-0400
TZOFFSETFROM:-0500
RRULE:FREQ=YEARLY;BYMONTH=3;BYDAY=2SU
END:DAYLIGHT
END:VTIMEZONE
BEGIN:VEVENT
UID:2025-YACG-COLUMBUS-ANNUAL-CHARITY-VOLLEYBALL-TOURNAMENT
DTSTART;TZID=America/New_York:20250816T110004
DTEND;TZID=America/New_York:20250816T140004
STATUS:CONFIRMED
SUMMARY:2025 YACG Columbus Annual Charity Volleyball Tournament
DESCRIPTION:
LOCATION:Woodland's Backyard\n668 Grandview Avenue\nColumbus\\, OH 43215
URL:https://www.acg.org/columbus/events/2025-yacg-columbus-annual-char
 ity-volleyball-tournament
DTSTAMP:20260421T104342Z
END:VEVENT
END:VCALENDAR
