BEGIN:VCALENDAR
VERSION:2.0
PRODID:-//ACG//Events//EN
CALSCALE:GREGORIAN
METHOD:PUBLISH
BEGIN:VTIMEZONE
TZID:America/New_York
BEGIN:STANDARD
DTSTART:19701025T060000
TZOFFSETTO:-0500
TZOFFSETFROM:-0400
RRULE:FREQ=YEARLY;BYMONTH=11;BYDAY=1SU
END:STANDARD
BEGIN:DAYLIGHT
DTSTART:19700426T070000
TZOFFSETTO:-0400
TZOFFSETFROM:-0500
RRULE:FREQ=YEARLY;BYMONTH=3;BYDAY=2SU
END:DAYLIGHT
END:VTIMEZONE
BEGIN:VEVENT
UID:2025-NEXTGEN-PICKLEBALL-SOCIAL-AUGUST
DTSTART;TZID=America/New_York:20250827T173036
DTEND;TZID=America/New_York:20250827T203036
STATUS:CONFIRMED
SUMMARY:2025 NextGen Pickleball Social August
DESCRIPTION:
LOCATION:Pickleball Club of Tysons\n8528 Tyco Road\nVienna\\, VA 22182
URL:https://www.acg.org/national-capital/events/2025-nextgen-picklebal
 l-social-august
DTSTAMP:20260421T091612Z
END:VEVENT
END:VCALENDAR
