BEGIN:VCALENDAR
VERSION:2.0
PRODID:-//ACG//Events//EN
CALSCALE:GREGORIAN
METHOD:PUBLISH
BEGIN:VTIMEZONE
TZID:America/New_York
BEGIN:STANDARD
DTSTART:19701025T060000
TZOFFSETTO:-0500
TZOFFSETFROM:-0400
RRULE:FREQ=YEARLY;BYMONTH=11;BYDAY=1SU
END:STANDARD
BEGIN:DAYLIGHT
DTSTART:19700426T070000
TZOFFSETTO:-0400
TZOFFSETFROM:-0500
RRULE:FREQ=YEARLY;BYMONTH=3;BYDAY=2SU
END:DAYLIGHT
END:VTIMEZONE
BEGIN:VEVENT
UID:NOVEMBER-ESPRESSO-ACG-CHARLESTON-MEMBER-S-MEETUP
DTSTART;TZID=America/New_York:20251112T083012
DTEND;TZID=America/New_York:20251112T093029
STATUS:CONFIRMED
SUMMARY:November Espresso: ACG Charleston Member's Meetup
DESCRIPTION:
LOCATION:Sightsee: 698 Rutledge Ave\, Charleston\, SC 29403\n698 Rutle
 dge Avenue\nCharleston\\, SC 29403
URL:https://www.acg.org/charleston/events/november-espresso-acg-charle
 ston-members-meetup
DTSTAMP:20260420T184006Z
END:VEVENT
END:VCALENDAR
