BEGIN:VCALENDAR
VERSION:2.0
PRODID:-//ACG//Events//EN
CALSCALE:GREGORIAN
METHOD:PUBLISH
BEGIN:VTIMEZONE
TZID:Europe/Madrid
BEGIN:STANDARD
DTSTART:19700101T060000
TZOFFSETTO:+0100
TZOFFSETFROM:+0100
END:STANDARD
END:VTIMEZONE
BEGIN:VEVENT
UID:145638
DTSTART;TZID=Europe/Madrid:20250626T190000
DTEND;TZID=Europe/Madrid:20250626T210000
STATUS:CONFIRMED
SUMMARY:PREMIO ACG SPAIN 2024
DESCRIPTION:
LOCATION:ESADE\n
URL:https://www.acg.org/spain/events/premio-acg-spain-2024
DTSTAMP:20260423T120254Z
END:VEVENT
END:VCALENDAR
