BEGIN:VCALENDAR
VERSION:2.0
PRODID:-//ACG//Events//EN
CALSCALE:GREGORIAN
METHOD:PUBLISH
BEGIN:VTIMEZONE
TZID:America/New_York
BEGIN:STANDARD
DTSTART:19701025T060000
TZOFFSETTO:-0500
TZOFFSETFROM:-0400
RRULE:FREQ=YEARLY;BYMONTH=11;BYDAY=1SU
END:STANDARD
BEGIN:DAYLIGHT
DTSTART:19700426T070000
TZOFFSETTO:-0400
TZOFFSETFROM:-0500
RRULE:FREQ=YEARLY;BYMONTH=3;BYDAY=2SU
END:DAYLIGHT
END:VTIMEZONE
BEGIN:VEVENT
UID:2025-ACG-CIN-SEPT-LUNCH-LEVERAGING-AI-IN-M-A
DTSTART;TZID=America/New_York:20250917T120029
DTEND;TZID=America/New_York:20250917T130056
STATUS:CONFIRMED
SUMMARY:2025 ACG CIN SEPT LUNCH:  Leveraging AI in M&A
DESCRIPTION:
LOCATION:Queen City Club\, 331 E. 4th Street\, Cincinnati OH 45202\n33
 1 East 4th Street\nCincinnati\\, OH 45202
URL:https://www.acg.org/cincinnati/events/2025-acg-cin-sept-lunch-leve
 raging-ai-ma
DTSTAMP:20260421T045815Z
END:VEVENT
END:VCALENDAR
