BEGIN:VCALENDAR
VERSION:2.0
PRODID:-//ACG//Events//EN
CALSCALE:GREGORIAN
METHOD:PUBLISH
BEGIN:VTIMEZONE
TZID:America/New_York
BEGIN:STANDARD
DTSTART:19701025T060000
TZOFFSETTO:-0500
TZOFFSETFROM:-0400
RRULE:FREQ=YEARLY;BYMONTH=11;BYDAY=1SU
END:STANDARD
BEGIN:DAYLIGHT
DTSTART:19700426T070000
TZOFFSETTO:-0400
TZOFFSETFROM:-0500
RRULE:FREQ=YEARLY;BYMONTH=3;BYDAY=2SU
END:DAYLIGHT
END:VTIMEZONE
BEGIN:VEVENT
UID:ACG_CIN_YACG-BUYING-GROWING-BUSINESSES
DTSTART;TZID=America/New_York:20251105T113041
DTEND;TZID=America/New_York:20251105T130014
STATUS:CONFIRMED
SUMMARY:ACG CIN YACG NOV LUNCH: Buying & Growing Businesses
DESCRIPTION:
LOCATION:Greater Cincinnati Chamber of Commerce Training Room\n3 East 
 4th Street\nCincinnati\\, OH 45202
URL:https://www.acg.org/cincinnati/events/acg-cin-yacg-nov-lunch-buyin
 g-growing-businesses
DTSTAMP:20260420T224558Z
END:VEVENT
END:VCALENDAR
