BEGIN:VCALENDAR
VERSION:2.0
PRODID:-//ACG//Events//EN
CALSCALE:GREGORIAN
METHOD:PUBLISH
BEGIN:VTIMEZONE
TZID:America/New_York
BEGIN:STANDARD
DTSTART:19701025T060000
TZOFFSETTO:-0500
TZOFFSETFROM:-0400
RRULE:FREQ=YEARLY;BYMONTH=11;BYDAY=1SU
END:STANDARD
BEGIN:DAYLIGHT
DTSTART:19700426T070000
TZOFFSETTO:-0400
TZOFFSETFROM:-0500
RRULE:FREQ=YEARLY;BYMONTH=3;BYDAY=2SU
END:DAYLIGHT
END:VTIMEZONE
BEGIN:VEVENT
UID:ACG-CIN-2025-HOLIDAY-SOIREE-WITH-TMA
DTSTART;TZID=America/New_York:20251203T163038
DTEND;TZID=America/New_York:20251203T190009
STATUS:CONFIRMED
SUMMARY:ACG CIN:  2025 Holiday Soiree with TMA
DESCRIPTION:
LOCATION:Bricker Graydon\n312 Walnut Street\nCincinnati\\, OH 45202
URL:https://www.acg.org/cincinnati/events/acg-cin-2025-holiday-soiree-tma
DTSTAMP:20260420T150721Z
END:VEVENT
END:VCALENDAR
