BEGIN:VCALENDAR
VERSION:2.0
PRODID:-//ACG//Events//EN
CALSCALE:GREGORIAN
METHOD:PUBLISH
BEGIN:VTIMEZONE
TZID:America/New_York
BEGIN:STANDARD
DTSTART:19701025T060000
TZOFFSETTO:-0500
TZOFFSETFROM:-0400
RRULE:FREQ=YEARLY;BYMONTH=11;BYDAY=1SU
END:STANDARD
BEGIN:DAYLIGHT
DTSTART:19700426T070000
TZOFFSETTO:-0400
TZOFFSETFROM:-0500
RRULE:FREQ=YEARLY;BYMONTH=3;BYDAY=2SU
END:DAYLIGHT
END:VTIMEZONE
BEGIN:VEVENT
UID:2025-NFL-LUNCHEON-AT-UNF-LEARN-IF-THE-DUST-IS-SETTLING-IN-THE-MARKETS
DTSTART;TZID=America/New_York:20250821T110026
DTEND;TZID=America/New_York:20250821T130053
STATUS:CONFIRMED
SUMMARY:2025 NFL Luncheon at UNF - Learn if the dust is settling in th
 e markets
DESCRIPTION:
LOCATION:The Herbert University Center @ UNF\n12000 Alumni Drive\nJack
 sonville\\, FL 32224
URL:https://www.acg.org/northflorida/events/2025-nfl-luncheon-unf-lear
 n-if-dust-settling-markets
DTSTAMP:20260421T094950Z
END:VEVENT
END:VCALENDAR
