BEGIN:VCALENDAR
VERSION:2.0
PRODID:-//ACG//Events//EN
CALSCALE:GREGORIAN
METHOD:PUBLISH
BEGIN:VTIMEZONE
TZID:America/New_York
BEGIN:STANDARD
DTSTART:19701025T060000
TZOFFSETTO:-0500
TZOFFSETFROM:-0400
RRULE:FREQ=YEARLY;BYMONTH=11;BYDAY=1SU
END:STANDARD
BEGIN:DAYLIGHT
DTSTART:19700426T070000
TZOFFSETTO:-0400
TZOFFSETFROM:-0500
RRULE:FREQ=YEARLY;BYMONTH=3;BYDAY=2SU
END:DAYLIGHT
END:VTIMEZONE
BEGIN:VEVENT
UID:2025-ACG-CIN-YACG-AUGUST-HAPPY-HOUR
DTSTART;TZID=America/New_York:20250813T163030
DTEND;TZID=America/New_York:20250813T180045
STATUS:CONFIRMED
SUMMARY:2025 ACG CIN YACG August Happy Hour
DESCRIPTION:
LOCATION:MadTree Brewing in Oakley\n3301 Madison Road\nCincinnati\\, O
 H 45209
URL:https://www.acg.org/cincinnati/events/2025-acg-cin-yacg-august-hap
 py-hour
DTSTAMP:20260423T083738Z
END:VEVENT
END:VCALENDAR
