BEGIN:VCALENDAR
VERSION:2.0
PRODID:-//ACG//Events//EN
CALSCALE:GREGORIAN
METHOD:PUBLISH
BEGIN:VTIMEZONE
TZID:America/New_York
BEGIN:STANDARD
DTSTART:19701025T060000
TZOFFSETTO:-0500
TZOFFSETFROM:-0400
RRULE:FREQ=YEARLY;BYMONTH=11;BYDAY=1SU
END:STANDARD
BEGIN:DAYLIGHT
DTSTART:19700426T070000
TZOFFSETTO:-0400
TZOFFSETFROM:-0500
RRULE:FREQ=YEARLY;BYMONTH=3;BYDAY=2SU
END:DAYLIGHT
END:VTIMEZONE
BEGIN:VEVENT
UID:ACG-TB-2024-2025-SPONSOR-APPRECIATION-PARTY
DTSTART;TZID=America/New_York:20250814T170044
DTEND;TZID=America/New_York:20250814T183055
STATUS:CONFIRMED
SUMMARY:ACG TB - 2024-2025 Sponsor Appreciation Party
DESCRIPTION:
LOCATION:The Tampa Club\n101 East Kennedy Boulevard\nTampa\\, FL 33602
URL:https://www.acg.org/tampabay/events/acg-tb-2024-2025-sponsor-appre
 ciation-party
DTSTAMP:20260421T104437Z
END:VEVENT
END:VCALENDAR
