BEGIN:VCALENDAR
VERSION:2.0
PRODID:-//ACG//Events//EN
CALSCALE:GREGORIAN
METHOD:PUBLISH
BEGIN:VTIMEZONE
TZID:America/Los_Angeles
BEGIN:STANDARD
DTSTART:19701025T090000
TZOFFSETTO:-0800
TZOFFSETFROM:-0700
RRULE:FREQ=YEARLY;BYMONTH=11;BYDAY=1SU
END:STANDARD
BEGIN:DAYLIGHT
DTSTART:19700426T100000
TZOFFSETTO:-0700
TZOFFSETFROM:-0800
RRULE:FREQ=YEARLY;BYMONTH=3;BYDAY=2SU
END:DAYLIGHT
END:VTIMEZONE
BEGIN:VEVENT
UID:ACGIE-PILATES-PROFESSIONALS-WORKING-WOMEN-IN-WELLNESS-07-25-25
DTSTART;TZID=America/Los_Angeles:20250725T100040
DTEND;TZID=America/Los_Angeles:20250725T123040
STATUS:CONFIRMED
SUMMARY:ACGIE | Pilates & Professionals Working Women in Wellness | 07
 .25.25
DESCRIPTION:
LOCATION:I Love My Pilates - Upland\n1202 East 20th Street\nUpland\\, 
 CA 91786
URL:https://www.acg.org/inlandempire/events/acgie-pilates-professional
 s-working-women-wellness-072525
DTSTAMP:20260421T123927Z
END:VEVENT
END:VCALENDAR
