BEGIN:VCALENDAR
VERSION:2.0
PRODID:-//ACG//Events//EN
CALSCALE:GREGORIAN
METHOD:PUBLISH
BEGIN:VTIMEZONE
TZID:America/Chicago
BEGIN:STANDARD
DTSTART:19701025T070000
TZOFFSETTO:-0600
TZOFFSETFROM:-0500
RRULE:FREQ=YEARLY;BYMONTH=11;BYDAY=1SU
END:STANDARD
BEGIN:DAYLIGHT
DTSTART:19700426T080000
TZOFFSETTO:-0500
TZOFFSETFROM:-0600
RRULE:FREQ=YEARLY;BYMONTH=3;BYDAY=2SU
END:DAYLIGHT
END:VTIMEZONE
BEGIN:VEVENT
UID:2025-ACG-NEBRASKA-SEPTEMBER-BREAKFAST-MEETING-KYLE-SALEM-CQUENCE-HEALTH
DTSTART;TZID=America/Chicago:20250925T070007
DTEND;TZID=America/Chicago:20250925T090020
STATUS:CONFIRMED
SUMMARY:2025 ACG Nebraska September Breakfast Meeting | Kyle Salem\, C
 Quence Health
DESCRIPTION:
LOCATION:Happy Hollow Country Club\n1701 South 105th Street\nOmaha\\, 
 NE 68124
URL:https://www.acg.org/nebraska/events/2025-acg-nebraska-september-br
 eakfast-meeting-kyle-salem-cquence-health
DTSTAMP:20260421T031157Z
END:VEVENT
END:VCALENDAR
