BEGIN:VCALENDAR
VERSION:2.0
PRODID:-//ACG//Events//EN
CALSCALE:GREGORIAN
METHOD:PUBLISH
BEGIN:VTIMEZONE
TZID:America/Chicago
BEGIN:STANDARD
DTSTART:19701025T070000
TZOFFSETTO:-0600
TZOFFSETFROM:-0500
RRULE:FREQ=YEARLY;BYMONTH=11;BYDAY=1SU
END:STANDARD
BEGIN:DAYLIGHT
DTSTART:19700426T080000
TZOFFSETTO:-0500
TZOFFSETFROM:-0600
RRULE:FREQ=YEARLY;BYMONTH=3;BYDAY=2SU
END:DAYLIGHT
END:VTIMEZONE
BEGIN:VEVENT
UID:2025-ACG-NEBRASKA-NOVEMBER-BREAKFAST-MEETING-SUE-THADDEN-CLIENT-RE
 SOURCES-INC
DTSTART;TZID=America/Chicago:20251120T070040
DTEND;TZID=America/Chicago:20251120T090054
STATUS:CONFIRMED
SUMMARY:2025 ACG Nebraska November Breakfast Meeting | Sue Thaden\, Cl
 ient Resources Inc.
DESCRIPTION:
LOCATION:Happy Hollow Country Club\n1701 South 105th Street\nOmaha\\, 
 NE 68124
URL:https://www.acg.org/nebraska/events/2025-acg-nebraska-november-bre
 akfast-meeting-sue-thaden-client-resources-inc
DTSTAMP:20260420T163047Z
END:VEVENT
END:VCALENDAR
