BEGIN:VCALENDAR
VERSION:2.0
PRODID:-//ACG//Events//EN
CALSCALE:GREGORIAN
METHOD:PUBLISH
BEGIN:VTIMEZONE
TZID:America/New_York
BEGIN:STANDARD
DTSTART:19701025T060000
TZOFFSETTO:-0500
TZOFFSETFROM:-0400
RRULE:FREQ=YEARLY;BYMONTH=11;BYDAY=1SU
END:STANDARD
BEGIN:DAYLIGHT
DTSTART:19700426T070000
TZOFFSETTO:-0400
TZOFFSETFROM:-0500
RRULE:FREQ=YEARLY;BYMONTH=3;BYDAY=2SU
END:DAYLIGHT
END:VTIMEZONE
BEGIN:VEVENT
UID:ACG-PITTSBURGH-2026-AUGUST-FCL-EVENT
DTSTART;TZID=America/New_York:20250925T170002
DTEND;TZID=America/New_York:20250925T190002
STATUS:CONFIRMED
SUMMARY:ACG Pittsburgh 2025 September FCL Event
DESCRIPTION:
LOCATION:Hofbräuhaus Pittsburgh\n2705 South Water Street\nPittsburgh\
 \, PA 15203
URL:https://www.acg.org/pittsburgh/events/acg-pittsburgh-2025-septembe
 r-fcl-event
DTSTAMP:20260421T035423Z
END:VEVENT
END:VCALENDAR
