BEGIN:VCALENDAR
VERSION:2.0
PRODID:-//ACG//Events//EN
CALSCALE:GREGORIAN
METHOD:PUBLISH
BEGIN:VTIMEZONE
TZID:America/Indiana/Indianapolis
BEGIN:STANDARD
DTSTART:19701025T060000
TZOFFSETTO:-0500
TZOFFSETFROM:-0400
RRULE:FREQ=YEARLY;BYMONTH=11;BYDAY=1SU
END:STANDARD
BEGIN:DAYLIGHT
DTSTART:19700426T070000
TZOFFSETTO:-0400
TZOFFSETFROM:-0500
RRULE:FREQ=YEARLY;BYMONTH=3;BYDAY=2SU
END:DAYLIGHT
END:VTIMEZONE
BEGIN:VEVENT
UID:145744
DTSTART;TZID=America/Indiana/Indianapolis:20250701T173000
DTEND;TZID=America/Indiana/Indianapolis:20250701T183000
STATUS:CONFIRMED
SUMMARY:YACG Pickleball Club
DESCRIPTION:
LOCATION:Lakefront Pickleball Courts\n
URL:https://www.acg.org/indiana/events/yacg-pickleball-club
DTSTAMP:20260421T143826Z
END:VEVENT
END:VCALENDAR
