BEGIN:VCALENDAR
VERSION:2.0
PRODID:-//ACG//Events//EN
CALSCALE:GREGORIAN
METHOD:PUBLISH
BEGIN:VTIMEZONE
TZID:America/New_York
BEGIN:STANDARD
DTSTART:19701025T060000
TZOFFSETTO:-0500
TZOFFSETFROM:-0400
RRULE:FREQ=YEARLY;BYMONTH=11;BYDAY=1SU
END:STANDARD
BEGIN:DAYLIGHT
DTSTART:19700426T070000
TZOFFSETTO:-0400
TZOFFSETFROM:-0500
RRULE:FREQ=YEARLY;BYMONTH=3;BYDAY=2SU
END:DAYLIGHT
END:VTIMEZONE
BEGIN:VEVENT
UID:ACG-CT-WOMEN-S-HAPPY-HOUR-SEPTEMBER-2025
DTSTART;TZID=America/New_York:20250924T080005
DTEND;TZID=America/New_York:20250924T140005
STATUS:CONFIRMED
SUMMARY:[SOLD OUT] ACG CT Women’s Golf Swing Clinic + Lunch | Septem
 ber 2025
DESCRIPTION:
LOCATION:Waccabuc Country Club\n90 Mead Street\nWaccabuc\\, NY 10597
URL:https://www.acg.org/connecticut/events/sold-out-acg-ct-womens-golf
 -swing-clinic-lunch-september-2025
DTSTAMP:20260421T033957Z
END:VEVENT
END:VCALENDAR
