BEGIN:VCALENDAR
VERSION:2.0
PRODID:-//ACG//Events//EN
CALSCALE:GREGORIAN
METHOD:PUBLISH
BEGIN:VTIMEZONE
TZID:America/Chicago
BEGIN:STANDARD
DTSTART:19701025T070000
TZOFFSETTO:-0600
TZOFFSETFROM:-0500
RRULE:FREQ=YEARLY;BYMONTH=11;BYDAY=1SU
END:STANDARD
BEGIN:DAYLIGHT
DTSTART:19700426T080000
TZOFFSETTO:-0500
TZOFFSETFROM:-0600
RRULE:FREQ=YEARLY;BYMONTH=3;BYDAY=2SU
END:DAYLIGHT
END:VTIMEZONE
BEGIN:VEVENT
UID:073125-ACG-TN-WOMEN-S-POWER-HOUR
DTSTART;TZID=America/Chicago:20250731T170013
DTEND;TZID=America/Chicago:20250731T190025
STATUS:CONFIRMED
SUMMARY:073125 ACG TN Women's Power Hour
DESCRIPTION:
URL:https://www.acg.org/tennessee/events/073125-acg-tn-womens-power-hour
DTSTAMP:20260423T083905Z
END:VEVENT
END:VCALENDAR
