BEGIN:VCALENDAR
VERSION:2.0
PRODID:-//ACG//Events//EN
CALSCALE:GREGORIAN
METHOD:PUBLISH
BEGIN:VTIMEZONE
TZID:America/New_York
BEGIN:STANDARD
DTSTART:19701025T060000
TZOFFSETTO:-0500
TZOFFSETFROM:-0400
RRULE:FREQ=YEARLY;BYMONTH=11;BYDAY=1SU
END:STANDARD
BEGIN:DAYLIGHT
DTSTART:19700426T070000
TZOFFSETTO:-0400
TZOFFSETFROM:-0500
RRULE:FREQ=YEARLY;BYMONTH=3;BYDAY=2SU
END:DAYLIGHT
END:VTIMEZONE
BEGIN:VEVENT
UID:ACG-NJ-MONTHLY-RECEPTION-SEPTEMBER-16-2025
DTSTART;TZID=America/New_York:20250916T160032
DTEND;TZID=America/New_York:20250916T183050
STATUS:CONFIRMED
SUMMARY:[SOLD OUT] ACG NJ Monthly Reception | Robots. AI. Union Jobs. 
 The Future of American Manufacturing Starts Here | September 16\, 2025
DESCRIPTION:
LOCATION:Unionwear\n305 3rd Avenue West\nNewark\\, NJ 07107
URL:https://www.acg.org/newjersey/events/sold-out-acg-nj-monthly-recep
 tion-robots-ai-union-jobs-future-american
DTSTAMP:20260419T164934Z
END:VEVENT
END:VCALENDAR
