BEGIN:VCALENDAR
VERSION:2.0
PRODID:-//ACG//Events//EN
CALSCALE:GREGORIAN
METHOD:PUBLISH
BEGIN:VTIMEZONE
TZID:America/New_York
BEGIN:STANDARD
DTSTART:19701025T060000
TZOFFSETTO:-0500
TZOFFSETFROM:-0400
RRULE:FREQ=YEARLY;BYMONTH=11;BYDAY=1SU
END:STANDARD
BEGIN:DAYLIGHT
DTSTART:19700426T070000
TZOFFSETTO:-0400
TZOFFSETFROM:-0500
RRULE:FREQ=YEARLY;BYMONTH=3;BYDAY=2SU
END:DAYLIGHT
END:VTIMEZONE
BEGIN:VEVENT
UID:ACG-NJ-CFO-FORUM-SEPTEMBER-17-2025
DTSTART;TZID=America/New_York:20250917T173020
DTEND;TZID=America/New_York:20250917T203032
STATUS:CONFIRMED
SUMMARY:ACG NJ CFO Forum | September 17\, 2025
DESCRIPTION:
URL:https://www.acg.org/newjersey/events/acg-nj-cfo-forum-september-17-2025
DTSTAMP:20260421T050354Z
END:VEVENT
END:VCALENDAR
