BEGIN:VCALENDAR
VERSION:2.0
PRODID:-//ACG//Events//EN
CALSCALE:GREGORIAN
METHOD:PUBLISH
BEGIN:VTIMEZONE
TZID:America/Toronto
BEGIN:STANDARD
DTSTART:19701025T060000
TZOFFSETTO:-0500
TZOFFSETFROM:-0400
RRULE:FREQ=YEARLY;BYMONTH=11;BYDAY=1SU
END:STANDARD
BEGIN:DAYLIGHT
DTSTART:19700426T070000
TZOFFSETTO:-0400
TZOFFSETFROM:-0500
RRULE:FREQ=YEARLY;BYMONTH=3;BYDAY=2SU
END:DAYLIGHT
END:VTIMEZONE
BEGIN:VEVENT
UID:145773
DTSTART;TZID=America/Toronto:20250717T173000
DTEND;TZID=America/Toronto:20250717T200000
STATUS:CONFIRMED
SUMMARY:ACG NexGen (Young Professionals)
DESCRIPTION:
LOCATION:Vintage Conservatory\, 224 King St W\, Toronto\, ON M5H 0A6\n
 Vintage Conservatory\n224 King St W\, Toronto\, ON M5H 0A6\nToronto\\,
  ON M5H 0A6
URL:https://www.acg.org/toronto/events/acg-nexgen-young-professionals
DTSTAMP:20260423T102510Z
END:VEVENT
END:VCALENDAR
