BEGIN:VCALENDAR
VERSION:2.0
PRODID:-//ACG//Events//EN
CALSCALE:GREGORIAN
METHOD:PUBLISH
BEGIN:VTIMEZONE
TZID:America/New_York
BEGIN:STANDARD
DTSTART:19701025T060000
TZOFFSETTO:-0500
TZOFFSETFROM:-0400
RRULE:FREQ=YEARLY;BYMONTH=11;BYDAY=1SU
END:STANDARD
BEGIN:DAYLIGHT
DTSTART:19700426T070000
TZOFFSETTO:-0400
TZOFFSETFROM:-0500
RRULE:FREQ=YEARLY;BYMONTH=3;BYDAY=2SU
END:DAYLIGHT
END:VTIMEZONE
BEGIN:VEVENT
UID:ACG-NJ-NEXTGEN-OCTOBER-8-2025
DTSTART;TZID=America/New_York:20251016T183025
DTEND;TZID=America/New_York:20251016T213025
STATUS:CONFIRMED
SUMMARY:ACG NJ NextGen | Reception at Homestead Kitchen & Bar | Octobe
 r 16\, 2025
DESCRIPTION:
LOCATION:Homestead Kitchen & Bar\n10 Dehart Street\nMorristown\\, NJ 07960
URL:https://www.acg.org/newjersey/events/acg-nj-nextgen-reception-home
 stead-kitchen-bar-october-16-2025
DTSTAMP:20260421T011649Z
END:VEVENT
END:VCALENDAR
