BEGIN:VCALENDAR
VERSION:2.0
PRODID:-//ACG//Events//EN
CALSCALE:GREGORIAN
METHOD:PUBLISH
BEGIN:VTIMEZONE
TZID:America/New_York
BEGIN:STANDARD
DTSTART:19701025T060000
TZOFFSETTO:-0500
TZOFFSETFROM:-0400
RRULE:FREQ=YEARLY;BYMONTH=11;BYDAY=1SU
END:STANDARD
BEGIN:DAYLIGHT
DTSTART:19700426T070000
TZOFFSETTO:-0400
TZOFFSETFROM:-0500
RRULE:FREQ=YEARLY;BYMONTH=3;BYDAY=2SU
END:DAYLIGHT
END:VTIMEZONE
BEGIN:VEVENT
UID:ACG-NJ-BREAKFAST-MEETING-OCTOBER-21-2025
DTSTART;TZID=America/New_York:20251021T080044
DTEND;TZID=America/New_York:20251021T103056
STATUS:CONFIRMED
SUMMARY:ACG NJ Breakfast Meeting | The Signal and The Noise: How Leade
 rs Win in the Age of AI Overload | October 21\, 2025
DESCRIPTION:
LOCATION:Galloping Hill\n3 Golf Drive\nKenilworth\\, NJ 07033
URL:https://www.acg.org/newjersey/events/acg-nj-breakfast-meeting-sign
 al-and-noise-how-leaders-win-age-ai-overload-october
DTSTAMP:20260420T230129Z
END:VEVENT
END:VCALENDAR
