BEGIN:VCALENDAR
VERSION:2.0
PRODID:-//ACG//Events//EN
CALSCALE:GREGORIAN
METHOD:PUBLISH
BEGIN:VTIMEZONE
TZID:America/Chicago
BEGIN:STANDARD
DTSTART:19701025T070000
TZOFFSETTO:-0600
TZOFFSETFROM:-0500
RRULE:FREQ=YEARLY;BYMONTH=11;BYDAY=1SU
END:STANDARD
BEGIN:DAYLIGHT
DTSTART:19700426T080000
TZOFFSETTO:-0500
TZOFFSETFROM:-0600
RRULE:FREQ=YEARLY;BYMONTH=3;BYDAY=2SU
END:DAYLIGHT
END:VTIMEZONE
BEGIN:VEVENT
UID:091125-ACG-TN-YOUNG-PROFESSIONALS-SPEED-NETWORKING
DTSTART;TZID=America/Chicago:20250911T170031
DTEND;TZID=America/Chicago:20250911T193049
STATUS:CONFIRMED
SUMMARY:091125 ACG TN Young Professionals Speed Networking
DESCRIPTION:
LOCATION:RSM\n1222 Demonbreun Street\nNashville\\, TN 37203
URL:https://www.acg.org/tennessee/events/091125-acg-tn-young-professio
 nals-speed-networking
DTSTAMP:20260421T054718Z
END:VEVENT
END:VCALENDAR
