BEGIN:VCALENDAR
VERSION:2.0
PRODID:-//ACG//Events//EN
CALSCALE:GREGORIAN
METHOD:PUBLISH
BEGIN:VTIMEZONE
TZID:America/Chicago
BEGIN:STANDARD
DTSTART:19701025T070000
TZOFFSETTO:-0600
TZOFFSETFROM:-0500
RRULE:FREQ=YEARLY;BYMONTH=11;BYDAY=1SU
END:STANDARD
BEGIN:DAYLIGHT
DTSTART:19700426T080000
TZOFFSETTO:-0500
TZOFFSETFROM:-0600
RRULE:FREQ=YEARLY;BYMONTH=3;BYDAY=2SU
END:DAYLIGHT
END:VTIMEZONE
BEGIN:VEVENT
UID:2025-AUGUST-6TH-ACG-ASA-NEXTGEN-S-COFFEE-MEET-UP-IN-S-A
DTSTART;TZID=America/Chicago:20250806T080006
DTEND;TZID=America/Chicago:20250806T100022
STATUS:CONFIRMED
SUMMARY:2025 August 6th ACG ASA NextGen's Coffee Meet-Up in S.A.
DESCRIPTION:
LOCATION:Kiki’s Coffee\n1100 Broadway\nSan Antonio\\, TX 78215
URL:https://www.acg.org/asa/events/2025-august-6th-acg-asa-nextgens-co
 ffee-meet-sa
DTSTAMP:20260421T134555Z
END:VEVENT
END:VCALENDAR
