BEGIN:VCALENDAR
VERSION:2.0
PRODID:-//ACG//Events//EN
CALSCALE:GREGORIAN
METHOD:PUBLISH
BEGIN:VTIMEZONE
TZID:Europe/Madrid
BEGIN:STANDARD
DTSTART:19700101T060000
TZOFFSETTO:+0100
TZOFFSETFROM:+0100
END:STANDARD
END:VTIMEZONE
BEGIN:VEVENT
UID:145899
DTSTART;TZID=Europe/Madrid:20250716T200000
DTEND;TZID=Europe/Madrid:20250716T220000
STATUS:CONFIRMED
SUMMARY:COCTEL SOCIAL ACG SPAIN 2025
DESCRIPTION:
LOCATION:Restaurante Cohete\nRestaurante Cohete
URL:https://www.acg.org/spain/events/coctel-social-acg-spain-2025
DTSTAMP:20260421T143802Z
END:VEVENT
END:VCALENDAR
