BEGIN:VCALENDAR
VERSION:2.0
PRODID:-//ACG//Events//EN
CALSCALE:GREGORIAN
METHOD:PUBLISH
BEGIN:VTIMEZONE
TZID:US/Mountain
BEGIN:STANDARD
DTSTART:19701025T080000
TZOFFSETTO:-0700
TZOFFSETFROM:-0600
RRULE:FREQ=YEARLY;BYMONTH=11;BYDAY=1SU
END:STANDARD
BEGIN:DAYLIGHT
DTSTART:19700426T090000
TZOFFSETTO:-0600
TZOFFSETFROM:-0700
RRULE:FREQ=YEARLY;BYMONTH=3;BYDAY=2SU
END:DAYLIGHT
END:VTIMEZONE
BEGIN:VEVENT
UID:AUGUST-2025-UTAH-BREAKFAST-SPEAKER-SERIES
DTSTART;TZID=US/Mountain:20250812T071515
DTEND;TZID=US/Mountain:20250812T090031
STATUS:CONFIRMED
SUMMARY:August 2025 Utah Breakfast Speaker Series
DESCRIPTION:
LOCATION:Jordan Commons\n9335 State Street\nSandy\\, UT 84070
URL:https://www.acg.org/utah/events/august-2025-utah-breakfast-speaker
 -series
DTSTAMP:20260423T103919Z
END:VEVENT
END:VCALENDAR
