BEGIN:VCALENDAR
VERSION:2.0
PRODID:-//ACG//Events//EN
CALSCALE:GREGORIAN
METHOD:PUBLISH
BEGIN:VTIMEZONE
TZID:America/Chicago
BEGIN:STANDARD
DTSTART:19701025T070000
TZOFFSETTO:-0600
TZOFFSETFROM:-0500
RRULE:FREQ=YEARLY;BYMONTH=11;BYDAY=1SU
END:STANDARD
BEGIN:DAYLIGHT
DTSTART:19700426T080000
TZOFFSETTO:-0500
TZOFFSETFROM:-0600
RRULE:FREQ=YEARLY;BYMONTH=3;BYDAY=2SU
END:DAYLIGHT
END:VTIMEZONE
BEGIN:VEVENT
UID:0925-ACG-TN-MONTHLY-MEETING-HOSTED-BY-FIRST-HORIZON
DTSTART;TZID=America/Chicago:20250925T170044
DTEND;TZID=America/Chicago:20250925T190010
STATUS:CONFIRMED
SUMMARY:092525 ACG TN Monthly Meeting\, hosted by First Horizon
DESCRIPTION:
LOCATION:CMA 35 Music Square East Suite 201 Nashville\n35 Music Square
  East\nNashville\\, TN 37203
URL:https://www.acg.org/tennessee/events/092525-acg-tn-monthly-meeting
 -hosted-first-horizon
DTSTAMP:20260421T024532Z
END:VEVENT
END:VCALENDAR
