BEGIN:VCALENDAR
VERSION:2.0
PRODID:-//ACG//Events//EN
CALSCALE:GREGORIAN
METHOD:PUBLISH
BEGIN:VTIMEZONE
TZID:America/New_York
BEGIN:STANDARD
DTSTART:19701025T060000
TZOFFSETTO:-0500
TZOFFSETFROM:-0400
RRULE:FREQ=YEARLY;BYMONTH=11;BYDAY=1SU
END:STANDARD
BEGIN:DAYLIGHT
DTSTART:19700426T070000
TZOFFSETTO:-0400
TZOFFSETFROM:-0500
RRULE:FREQ=YEARLY;BYMONTH=3;BYDAY=2SU
END:DAYLIGHT
END:VTIMEZONE
BEGIN:VEVENT
UID:2025-ACG-PHILADELPHIA-ANNUAL-MEMBER-GUEST-GOLF-OUTING-RESCHEDULED
DTSTART;TZID=America/New_York:20250804T101504
DTEND;TZID=America/New_York:20250804T170022
STATUS:CONFIRMED
SUMMARY:2025 ACG Philadelphia | Annual Member-Guest Golf Outing - Resc
 heduled
DESCRIPTION:
LOCATION:Llanerch Country Club\n950 West Chester Pike\nHavertown\\, PA
  19083
URL:https://www.acg.org/philadelphia/events/2025-acg-philadelphia-annu
 al-member-guest-golf-outing-rescheduled
DTSTAMP:20260423T091936Z
END:VEVENT
END:VCALENDAR
