BEGIN:VCALENDAR
VERSION:2.0
PRODID:-//ACG//Events//EN
CALSCALE:GREGORIAN
METHOD:PUBLISH
BEGIN:VTIMEZONE
TZID:America/New_York
BEGIN:STANDARD
DTSTART:19701025T060000
TZOFFSETTO:-0500
TZOFFSETFROM:-0400
RRULE:FREQ=YEARLY;BYMONTH=11;BYDAY=1SU
END:STANDARD
BEGIN:DAYLIGHT
DTSTART:19700426T070000
TZOFFSETTO:-0400
TZOFFSETFROM:-0500
RRULE:FREQ=YEARLY;BYMONTH=3;BYDAY=2SU
END:DAYLIGHT
END:VTIMEZONE
BEGIN:VEVENT
UID:2026-ACG-PHILADELPHIA-SPRING-BREAKFAST-BRIEFING
DTSTART;TZID=America/New_York:20260409T080007
DTEND;TZID=America/New_York:20260409T100007
STATUS:CONFIRMED
SUMMARY:2026 ACG Philadelphia | Spring Breakfast Briefing
DESCRIPTION:
LOCATION:Philadelphia Country Club\n1601 Spring Mill Road\nGladwyne\\,
  PA 19035
URL:https://www.acg.org/philadelphia/events/2026-acg-philadelphia-spri
 ng-breakfast-briefing
DTSTAMP:20260421T191425Z
END:VEVENT
END:VCALENDAR
