BEGIN:VCALENDAR
VERSION:2.0
PRODID:-//ACG//Events//EN
CALSCALE:GREGORIAN
METHOD:PUBLISH
BEGIN:VTIMEZONE
TZID:America/New_York
BEGIN:STANDARD
DTSTART:19701025T060000
TZOFFSETTO:-0500
TZOFFSETFROM:-0400
RRULE:FREQ=YEARLY;BYMONTH=11;BYDAY=1SU
END:STANDARD
BEGIN:DAYLIGHT
DTSTART:19700426T070000
TZOFFSETTO:-0400
TZOFFSETFROM:-0500
RRULE:FREQ=YEARLY;BYMONTH=3;BYDAY=2SU
END:DAYLIGHT
END:VTIMEZONE
BEGIN:VEVENT
UID:ACG-CHARLESTON-S-MEMBERSHIP-BREAKFAST
DTSTART;TZID=America/New_York:20250820T083002
DTEND;TZID=America/New_York:20250820T094502
STATUS:CONFIRMED
SUMMARY:ACG Charleston's Membership Breakfast
DESCRIPTION:
LOCATION:Harbour Club at WestEdge\n22 Westedge Street\nCharleston\\, S
 C 29403
URL:https://www.acg.org/charleston/events/acg-charlestons-membership-b
 reakfast
DTSTAMP:20260421T104329Z
END:VEVENT
END:VCALENDAR
