BEGIN:VCALENDAR
VERSION:2.0
PRODID:-//ACG//Events//EN
CALSCALE:GREGORIAN
METHOD:PUBLISH
BEGIN:VTIMEZONE
TZID:America/Chicago
BEGIN:STANDARD
DTSTART:19701025T070000
TZOFFSETTO:-0600
TZOFFSETFROM:-0500
RRULE:FREQ=YEARLY;BYMONTH=11;BYDAY=1SU
END:STANDARD
BEGIN:DAYLIGHT
DTSTART:19700426T080000
TZOFFSETTO:-0500
TZOFFSETFROM:-0600
RRULE:FREQ=YEARLY;BYMONTH=3;BYDAY=2SU
END:DAYLIGHT
END:VTIMEZONE
BEGIN:VEVENT
UID:2025-ACG-WI-MARK-HASTING-PRESIDENT-CEO-BLAIN-SUPPLY-INC
DTSTART;TZID=America/Chicago:20250912T111544
DTEND;TZID=America/Chicago:20250912T131501
STATUS:CONFIRMED
SUMMARY:2025 ACG WI | Mark Hasting\, President & CEO\, Blain Supply\, Inc.
DESCRIPTION:
LOCATION:Italian Community Center\n631 East Chicago Street\nMilwaukee\
 \, WI 53202
URL:https://www.acg.org/wisconsin/events/2025-acg-wi-mark-hasting-pres
 ident-ceo-blain-supply-inc
DTSTAMP:20260421T054839Z
END:VEVENT
END:VCALENDAR
