BEGIN:VCALENDAR
VERSION:2.0
PRODID:-//ACG//Events//EN
CALSCALE:GREGORIAN
METHOD:PUBLISH
BEGIN:VTIMEZONE
TZID:America/New_York
BEGIN:STANDARD
DTSTART:19701025T060000
TZOFFSETTO:-0500
TZOFFSETFROM:-0400
RRULE:FREQ=YEARLY;BYMONTH=11;BYDAY=1SU
END:STANDARD
BEGIN:DAYLIGHT
DTSTART:19700426T070000
TZOFFSETTO:-0400
TZOFFSETFROM:-0500
RRULE:FREQ=YEARLY;BYMONTH=3;BYDAY=2SU
END:DAYLIGHT
END:VTIMEZONE
BEGIN:VEVENT
UID:ACG-NEW-JERSEY-CLA-WEBINAR-ON-OBBBA
DTSTART;TZID=America/New_York:20250724T150041
DTEND;TZID=America/New_York:20250724T160041
STATUS:CONFIRMED
SUMMARY:ACG New Jersey + CLA Webinar on OBBBA\, July 24\, 2025
DESCRIPTION:
LOCATION:Virtual\n
URL:https://www.acg.org/newjersey/events/acg-new-jersey-cla-webinar-ob
 bba-july-24-2025
DTSTAMP:20260421T123800Z
END:VEVENT
END:VCALENDAR
