BEGIN:VCALENDAR
VERSION:2.0
PRODID:-//ACG//Events//EN
CALSCALE:GREGORIAN
METHOD:PUBLISH
BEGIN:VTIMEZONE
TZID:America/New_York
BEGIN:STANDARD
DTSTART:19701025T060000
TZOFFSETTO:-0500
TZOFFSETFROM:-0400
RRULE:FREQ=YEARLY;BYMONTH=11;BYDAY=1SU
END:STANDARD
BEGIN:DAYLIGHT
DTSTART:19700426T070000
TZOFFSETTO:-0400
TZOFFSETFROM:-0500
RRULE:FREQ=YEARLY;BYMONTH=3;BYDAY=2SU
END:DAYLIGHT
END:VTIMEZONE
BEGIN:VEVENT
UID:2025-09-KTY-FEDERAL-RESERVE-UPDATE-SEPT-24
DTSTART;TZID=America/New_York:20250924T111519
DTEND;TZID=America/New_York:20250924T130151
STATUS:CONFIRMED
SUMMARY:2025-09 KTY - Federal Reserve Update - Sept 24
DESCRIPTION:
LOCATION:The Olmsted\n3701 Frankfort Avenue\nLouisville\\, KY 40207
URL:https://www.acg.org/kentucky/events/2025-09-kty-federal-reserve-up
 date-sept-24
DTSTAMP:20260423T211319Z
END:VEVENT
END:VCALENDAR
