BEGIN:VCALENDAR
VERSION:2.0
PRODID:-//ACG//Events//EN
CALSCALE:GREGORIAN
METHOD:PUBLISH
BEGIN:VTIMEZONE
TZID:US/Eastern
BEGIN:STANDARD
DTSTART:19701025T060000
TZOFFSETTO:-0500
TZOFFSETFROM:-0400
RRULE:FREQ=YEARLY;BYMONTH=11;BYDAY=1SU
END:STANDARD
BEGIN:DAYLIGHT
DTSTART:19700426T070000
TZOFFSETTO:-0400
TZOFFSETFROM:-0500
RRULE:FREQ=YEARLY;BYMONTH=3;BYDAY=2SU
END:DAYLIGHT
END:VTIMEZONE
BEGIN:VEVENT
UID:2025-NFL-HOLIDAY-SOCIAL
DTSTART;TZID=US/Eastern:20251203T173053
DTEND;TZID=US/Eastern:20251203T203053
STATUS:CONFIRMED
SUMMARY:2025 NFL Holiday Social
DESCRIPTION:
LOCATION:Fogo de Chao\n4784 Town Center Parkway\nJacksonville\\, FL 32246
URL:https://www.acg.org/northflorida/events/2025-nfl-holiday-social
DTSTAMP:20260420T162402Z
END:VEVENT
END:VCALENDAR
