BEGIN:VCALENDAR
VERSION:2.0
PRODID:-//ACG//Events//EN
CALSCALE:GREGORIAN
METHOD:PUBLISH
BEGIN:VTIMEZONE
TZID:America/New_York
BEGIN:STANDARD
DTSTART:19701025T060000
TZOFFSETTO:-0500
TZOFFSETFROM:-0400
RRULE:FREQ=YEARLY;BYMONTH=11;BYDAY=1SU
END:STANDARD
BEGIN:DAYLIGHT
DTSTART:19700426T070000
TZOFFSETTO:-0400
TZOFFSETFROM:-0500
RRULE:FREQ=YEARLY;BYMONTH=3;BYDAY=2SU
END:DAYLIGHT
END:VTIMEZONE
BEGIN:VEVENT
UID:ACG-TAMPA-BAY-LINKS-OR-DINKS
DTSTART;TZID=America/New_York:20251001T160026
DTEND;TZID=America/New_York:20251001T193026
STATUS:CONFIRMED
SUMMARY:ACG Tampa Bay - "Links or Dinks"
DESCRIPTION:
LOCATION:Bardmoor Golf & Tennis Club\n8001 Cumberland Road\nSeminole\\
 , FL 33777
URL:https://www.acg.org/tampabay/events/acg-tampa-bay-links-or-dinks
DTSTAMP:20260421T011751Z
END:VEVENT
END:VCALENDAR
