BEGIN:VCALENDAR
VERSION:2.0
PRODID:-//ACG//Events//EN
CALSCALE:GREGORIAN
METHOD:PUBLISH
BEGIN:VTIMEZONE
TZID:America/Indiana/Indianapolis
BEGIN:STANDARD
DTSTART:19701025T060000
TZOFFSETTO:-0500
TZOFFSETFROM:-0400
RRULE:FREQ=YEARLY;BYMONTH=11;BYDAY=1SU
END:STANDARD
BEGIN:DAYLIGHT
DTSTART:19700426T070000
TZOFFSETTO:-0400
TZOFFSETFROM:-0500
RRULE:FREQ=YEARLY;BYMONTH=3;BYDAY=2SU
END:DAYLIGHT
END:VTIMEZONE
BEGIN:VEVENT
UID:146345
DTSTART;TZID=America/Indiana/Indianapolis:20251113T110000
DTEND;TZID=America/Indiana/Indianapolis:20251113T130000
STATUS:CONFIRMED
SUMMARY:2025 Luncheon with the Alliance
DESCRIPTION:
LOCATION:NCAA Headquarters Palmer Pierce Ballroom  700 West Washington
  Street  Indianapolis\, IN  46204\n
URL:https://www.acg.org/indiana/events/2025-luncheon-alliance
DTSTAMP:20260420T204121Z
END:VEVENT
END:VCALENDAR
