BEGIN:VCALENDAR
VERSION:2.0
PRODID:-//ACG//Events//EN
CALSCALE:GREGORIAN
METHOD:PUBLISH
BEGIN:VTIMEZONE
TZID:America/Chicago
BEGIN:STANDARD
DTSTART:19701025T070000
TZOFFSETTO:-0600
TZOFFSETFROM:-0500
RRULE:FREQ=YEARLY;BYMONTH=11;BYDAY=1SU
END:STANDARD
BEGIN:DAYLIGHT
DTSTART:19700426T080000
TZOFFSETTO:-0500
TZOFFSETFROM:-0600
RRULE:FREQ=YEARLY;BYMONTH=3;BYDAY=2SU
END:DAYLIGHT
END:VTIMEZONE
BEGIN:VEVENT
UID:2025-STL-CFO-OUTLOOK-THE-BIG-BEAUTIFUL-BILL
DTSTART;TZID=America/Chicago:20250918T073024
DTEND;TZID=America/Chicago:20250918T090050
STATUS:CONFIRMED
SUMMARY:2025 STL | CFO Connect: Tax Cuts and Jobs Act 2.0 - How the On
 e Big Beautiful Bill has Supercharged Business Tax (By Invitation Only
 )
DESCRIPTION:
LOCATION:Polsinelli\n7676 Forsyth Boulevard\nClayton\\, MO 63105
URL:https://www.acg.org/stlouis/events/2025-stl-cfo-connect-tax-cuts-a
 nd-jobs-act-20-how-one-big-beautiful-bill-has
DTSTAMP:20260421T045906Z
END:VEVENT
END:VCALENDAR
